BEGIN:VCALENDAR
VERSION:2.0
PRODID:-//Crofton Baptist Church  - ECPv6.15.20//NONSGML v1.0//EN
CALSCALE:GREGORIAN
METHOD:PUBLISH
X-WR-CALNAME:Crofton Baptist Church 
X-ORIGINAL-URL:https://croftonbaptist.com
X-WR-CALDESC:Events for Crofton Baptist Church 
REFRESH-INTERVAL;VALUE=DURATION:PT1H
X-Robots-Tag:noindex
X-PUBLISHED-TTL:PT1H
BEGIN:VTIMEZONE
TZID:UTC
BEGIN:STANDARD
TZOFFSETFROM:+0000
TZOFFSETTO:+0000
TZNAME:UTC
DTSTART:20250101T000000
END:STANDARD
END:VTIMEZONE
BEGIN:VEVENT
DTSTART;VALUE=DATE:20260404
DTEND;VALUE=DATE:20260405
DTSTAMP:20260423T151457
CREATED:20260114T190208Z
LAST-MODIFIED:20260317T165819Z
UID:5358-1775260800-1775347199@croftonbaptist.com
SUMMARY:'The Promise'-Mayfield Easter Production
DESCRIPTION:The Promise \n \n 
URL:https://croftonbaptist.com/event/easter-passion-play/
LOCATION:Trace Creek Baptist Church\, 3577 State Route 131\, Mayfield\, KY\, 42066\, United States
END:VEVENT
END:VCALENDAR