BEGIN:VCALENDAR
VERSION:2.0
PRODID:-//Crofton Baptist Church  - ECPv6.15.20//NONSGML v1.0//EN
CALSCALE:GREGORIAN
METHOD:PUBLISH
X-WR-CALNAME:Crofton Baptist Church 
X-ORIGINAL-URL:https://croftonbaptist.com
X-WR-CALDESC:Events for Crofton Baptist Church 
REFRESH-INTERVAL;VALUE=DURATION:PT1H
X-Robots-Tag:noindex
X-PUBLISHED-TTL:PT1H
BEGIN:VTIMEZONE
TZID:UTC
BEGIN:STANDARD
TZOFFSETFROM:+0000
TZOFFSETTO:+0000
TZNAME:UTC
DTSTART:20250101T000000
END:STANDARD
END:VTIMEZONE
BEGIN:VEVENT
DTSTART;TZID=UTC:20260418T083000
DTEND;TZID=UTC:20260418T130000
DTSTAMP:20260423T152347
CREATED:20260313T190344Z
LAST-MODIFIED:20260317T164854Z
UID:5507-1776501000-1776517200@croftonbaptist.com
SUMMARY:Crofton Baptist Annual Mens Event
DESCRIPTION:
URL:https://croftonbaptist.com/event/crofton-baptist-annual-mens-event/
LOCATION:Crofton Baptist Church\, 155 College Street\, Crofton\, KY\, 42217
ATTACH;FMTTYPE=image/png:https://croftonbaptist.com/wp-content/uploads/2026/03/mens-event2.png
END:VEVENT
END:VCALENDAR